BEGIN:VCALENDAR
VERSION:2.0
PRODID:-//alabamanaturejournalclub - ECPv6.10.0//NONSGML v1.0//EN
CALSCALE:GREGORIAN
METHOD:PUBLISH
X-ORIGINAL-URL:https://alabamanaturejournalclub.com
X-WR-CALDESC:Events for alabamanaturejournalclub
REFRESH-INTERVAL;VALUE=DURATION:PT1H
X-Robots-Tag:noindex
X-PUBLISHED-TTL:PT1H
BEGIN:VTIMEZONE
TZID:America/New_York
BEGIN:DAYLIGHT
TZOFFSETFROM:-0500
TZOFFSETTO:-0400
TZNAME:EDT
DTSTART:20230312T070000
END:DAYLIGHT
BEGIN:STANDARD
TZOFFSETFROM:-0400
TZOFFSETTO:-0500
TZNAME:EST
DTSTART:20231105T060000
END:STANDARD
END:VTIMEZONE
BEGIN:VEVENT
DTSTART;TZID=America/New_York:20230930T090000
DTEND;TZID=America/New_York:20230930T113000
DTSTAMP:20260425T193728
CREATED:20230825T145926Z
LAST-MODIFIED:20230925T210130Z
UID:481-1696064400-1696073400@alabamanaturejournalclub.com
SUMMARY:Nature Journaling Meet-up\, September 30th (North Alabama)
DESCRIPTION:Do I need to RSVP? Yes! Please RSVP to save a spot. \nWhere is the event? \nAddress:  Harvest Square Nature Preserve\, 111 Allyson Sadie Blvd\, Harvest\, AL 35749 \nWe will begin the day at the pavilion\, which is visible from the parking lot. \nWhat will we be doing? \nThis is not a class! You will be given handouts and encouraged to explore nearby trails and the forest edge to find specimens to journal\, with the option of returning to a shaded pavilion to journal. Towards the end\, we will have a small round-table discussion about what we observed – share your journal only if you want!  \nThe general format is: Explore\, Document\, Discuss! \nWho is this event for? \nThis family-friendly event is designed to accommodate a blend of ages and experience levels.  \nWe’re planning to collaborate with local institutions and instructors soon to offer events specifically tailored to younger children\, but they are more than welcome at these meetings.  \nPlease give the organizers a heads-up if you plan on bringing a large group of children. Parents and caretakers are responsible for their children during this event. \nWhat do I need to bring? \nThis is a BYOB (Bring Your Own Brush!) kind of event. If you already have art supplies you’d prefer to use\, bring those too! But\, if you don’t have any supplies\, don’t worry! Our event leader will provide materials for anyone who forgot them or needs them. \nWe recommend bringing: \n\nnotebook\npen\npencil\ncolored pencils\nbug spray (highly recommended!) \nsunscreen\nhat or sunglasses\nbottled water\n\nHow much does it cost to attend? \nThis event is entirely FREE. So\, invite your friends\, bring your family\, and let’s all share in a day of connection\, creativity\, and discovery! \nAnything else I need to know? \nThe pavilion offers shade for those who want to use it. We recommend bringing something to sit on\, such as a jacket\, blanket or portable chair if you choose to venture onto the trails or boardwalk.  \nThere are no portable restrooms available at this location\, but there is a Public nearby that you can use. \nPlease don’t hesitate to reach out if you have any questions or need additional information. We’re here to assist you! \nWe can’t wait to meet you\, share in your company\, and explore the beauty of the Alabama outdoors through the lens of nature journaling.  \nHappy journaling\, everyone! \n 
URL:https://alabamanaturejournalclub.com/event/nature-journaling-meet-up-september-30th-north-alabama/
LOCATION:Harvest Square Nature Preserve\, 111 Allyson Sadie Blvd\, Harvest\, AL\, 35749\, United States
CATEGORIES:In-person
ATTACH;FMTTYPE=image/jpeg:https://alabamanaturejournalclub.com/wp-content/uploads/2023/08/north_alabama_nature_journaling_meet-up_september_30_harvest_square-scaled.jpg
ORGANIZER;CN="Laramie McKenna":MAILTO:lmakozbek@gmail.com
END:VEVENT
END:VCALENDAR