BEGIN:VCALENDAR
VERSION:2.0
PRODID:-//alabamanaturejournalclub - ECPv6.10.0//NONSGML v1.0//EN
CALSCALE:GREGORIAN
METHOD:PUBLISH
X-ORIGINAL-URL:https://alabamanaturejournalclub.com
X-WR-CALDESC:Events for alabamanaturejournalclub
REFRESH-INTERVAL;VALUE=DURATION:PT1H
X-Robots-Tag:noindex
X-PUBLISHED-TTL:PT1H
BEGIN:VTIMEZONE
TZID:America/New_York
BEGIN:DAYLIGHT
TZOFFSETFROM:-0500
TZOFFSETTO:-0400
TZNAME:EDT
DTSTART:20230312T070000
END:DAYLIGHT
BEGIN:STANDARD
TZOFFSETFROM:-0400
TZOFFSETTO:-0500
TZNAME:EST
DTSTART:20231105T060000
END:STANDARD
END:VTIMEZONE
BEGIN:VEVENT
DTSTART;TZID=America/New_York:20231021T113000
DTEND;TZID=America/New_York:20231022T160000
DTSTAMP:20260425T193729
CREATED:20230918T161848Z
LAST-MODIFIED:20230919T130335Z
UID:504-1697887800-1697990400@alabamanaturejournalclub.com
SUMMARY:Building an Autumn Nature Journal: A Workshop in Watercolor & Ink (with the Land Trust of North Alabama)
DESCRIPTION:Presented in partnership with the Land Trust of North Alabama \nRegister here.\nHave you ever wanted to document the natural world around you in a beautiful and memorable way? Keeping a nature journal is a time-honored tradition among naturalists and is an incredible way to sharpen your observation\, improve your memory\, and deepen your curiosity about nature. This multidisciplinary practice involves documenting and creatively exploring your local ecology through the visual arts\, writing\, and scientific observation. \nWe will explore the world of fall foliage during its peak season\, and use watercolor and ink together to create dynamic illustrations to accompany our written observations. \nDrawing and painting natural subjects may seem overwhelming\, but this workshop includes instruction to teach you key techniques to jumpstart your journaling skills and give you greater confidence in the field. \nAfter learning how to use watercolor and ink-sketching techniques to capture the beauty of fall foliage\, we will move to the forest to explore the autumnal landscapes of the Land Trust of North Alabama and create a page of curiosities in our journal. \nWhen & Where: \n\nSaturday\, October 21st from 11:30 AM – 3:30 PM at All Saints Lutheran Church\, 12100 Bailey Cove Rd\, Huntsville\, AL 35803.  This portion of the program will take place indoors.\nSunday\, October 22nd from 1-4 PM at Chapman Mountain Nature Preserve (1263 U.S Hwy 72 East\, Huntsville\, AL 35811) – This portion of the workshop will take place outdoors. Access to restrooms will be available.\n\nCost: $75 for Land Trust Members at Trailblazer level or above\, $90 for Non-members. If you’re not a member of the Land Trust\, then join today! \nCourse fees will help pay for seven hours of instruction\, snacks and drinks\, some worksheets and handouts\, and all of the supplies for needed to participate in the workshop\, including: \n\n12-color watercolor pan\nA round tip brush\nWaterproof ink pens\n140lb watercolor paper\n\nCourse Description:  \nAll skill levels are welcome. We have designed the workshop to especially benefit those who may not have previous experience drawing or using watercolors. However\, even those with previous experience in these techniques will be able to take away novel approaches and ideas. \nThe first day will be instructional and include lessons on: \n\nThe Mindset & Tools of the Nature Journaler – we will learn about the elements of keeping an artistic field notebook that balances information and pictures.\nHow to Sketch Leaves\, Landscapes\, and Other Fall Subjects – we will focus on learning to block out complex shapes\, perspective\, pencils and pen strokes\, and basic compositional tricks. The goal is the help you draw quickly and from a real life subject.\nPractical Watercolor Techniques for the Field – we will learn the core methods of applying watercolor that are most useful in the field and how to mix beautiful colors with a limited palette.\nThe Shape & Biology of Leaves – we will learn about the basic structure of leaves so that you can label your drawings and explore questions like:\n\n– Why do trees drop their leaves at all during the fall?\n– Why do leaves change color in the fall?\n– Why do some trees remain evergreen?\n– What happens to the leaves once they’ve fallen to the ground? \nDuring the second day\, we will arrive at the designated location to explore and collect subjects for our journal page. Students will have the option of working independently or alongside the instructor to complete a journal page that describes their subject. The day will wrap up with a round-table discussion of our observations. \nWhat to Bring/Wear: \nOn the field day\, we will be hiking and sitting down. While fall weather in Alabama tends to be mild\, please dress according to the weather conditions of that day. In the event of rain\, we will be able to work under a lit pavilion. Although supplies are provided\, you may bring additional supplies if desired. \nInstructor Profile: \nLaramie (Smith) Aközbek is the President of the Alabama Nature Journal Club and is passionate about helping others build deep connections with the natural world. She enjoys scientific and botanical illustration\, and loves to use art as a means of capturing and communicating complex topics. She is a plant biologist and conducts research at the HudsonAlpha Institute for Biotechnology while working toward her PhD in Plant Genomics with Auburn University. Outside of the lab\, she enjoys hiking throughout Alabama with her husband documenting the local flora and fauna.
URL:https://alabamanaturejournalclub.com/event/building-an-autumn-nature-journal-a-workshop-in-watercolor-ink-with-the-land-trust-of-north-alabama/
LOCATION:AL
CATEGORIES:In-person
ATTACH;FMTTYPE=image/jpeg:https://alabamanaturejournalclub.com/wp-content/uploads/2023/09/Building-an-Autumn-Nature-Journal-A-Workshop-in-Watercolor-Ink-October-21-and-22-Land-Trust-of-North-Alabama-Alabama-Nature-Journal-Club-scaled.jpg
ORGANIZER;CN="Laramie McKenna":MAILTO:lmakozbek@gmail.com
END:VEVENT
END:VCALENDAR