BEGIN:VCALENDAR
VERSION:2.0
PRODID:-//alabamanaturejournalclub - ECPv6.10.0//NONSGML v1.0//EN
CALSCALE:GREGORIAN
METHOD:PUBLISH
X-ORIGINAL-URL:https://alabamanaturejournalclub.com
X-WR-CALDESC:Events for alabamanaturejournalclub
REFRESH-INTERVAL;VALUE=DURATION:PT1H
X-Robots-Tag:noindex
X-PUBLISHED-TTL:PT1H
BEGIN:VTIMEZONE
TZID:America/Chicago
BEGIN:DAYLIGHT
TZOFFSETFROM:-0600
TZOFFSETTO:-0500
TZNAME:CDT
DTSTART:20240310T080000
END:DAYLIGHT
BEGIN:STANDARD
TZOFFSETFROM:-0500
TZOFFSETTO:-0600
TZNAME:CST
DTSTART:20241103T070000
END:STANDARD
END:VTIMEZONE
BEGIN:VEVENT
DTSTART;TZID=America/Chicago:20240109T120000
DTEND;TZID=America/Chicago:20240109T140000
DTSTAMP:20260425T151803
CREATED:20240108T175528Z
LAST-MODIFIED:20240108T182302Z
UID:603-1704801600-1704808800@alabamanaturejournalclub.com
SUMMARY:Nature Journaling Meet-up (Central Alabama) – January 9th\, 2024
DESCRIPTION:Do I need to RSVP? Yes! Please RSVP to save a spot. \n  \nEvent Leader: Amy Lewis Sides\, a biologist and expert nature journaling educator based in Pelham\, AL! Check out her website here. \n  \nWhen & where is the event? Red Mountain Park– meet beside the bright red-orange trailer at the main trailhead. \nAddress: 2011 Frankfurt Dr\, Birmingham\, AL 35211 \nDate & Time: Tuesday\, January 9th\, 2023 from 12:00-2:00pm CST \n  \n How much does it cost to attend? This event is entirely FREE. So\, invite your friends\, bring your family\, and let’s all share in a day of connection\, creativity\, and discovery! \n  \nWhat will we be doing? \nDepending on the location\, there may be different things to observe or visit. We encourage you to make observations and notes about what you see around you — and\, to explore these three prompts while you are out: https://johnmuirlaws.com/deep-observation/. \nThis is a monthly social meet-up for anyone who is interested in nature journaling\, especially in Central Alabama. These meet-ups are not instructional. However\, Amy will be there to facilitate your time and answer your questions. \nNature journaling is the practice of using words\, pictures\, and numbers to describe the natural world around you. It is a tool for sharpening your observational skills and forming a deeper connection with nature. Most importantly\, anyone can do it! No prior experience or skill is required. \n  \nWho is this event for?  \nThis family-friendly event is designed to accommodate a blend of all ages and experience levels. \nHowever\, please give the organizers a heads-up if you plan on bringing a large group of children by emailing us at alabamanaturejournalclub@gmail.com. Parents and caretakers are responsible for their children during this event. \n  \nWhat do I need to bring? Please bring your own supplies\, snacks and anything else you might need! Consider bringing a notebook\, pens\, pencils\, and something to add color to your entries (i.e. colored pencils\, watercolor\, markers\, etc.) \nYou may also want to consider bringing: \n\nBottled water\nSnacks\nDepending on the season: insect repellent\, sunscreen\, raincoat\, a hat or sunglasses for comfort\, portable chair\n\nAnything else I need to know? Not at this moment! Please note that not all locations will have access to a restroom or other amenities. Should you have any queries or need further details\, please feel free to reach out. We are more than happy to help! \nWe’re excited to see you\, to grow our community\, and to enjoy Alabama’s natural wonders through the art of nature journaling. \nHappy journaling\, everyone!
URL:https://alabamanaturejournalclub.com/event/nature-journaling-meet-up-central-alabama-january-9th-2024/
LOCATION:AL
CATEGORIES:In-person
ATTACH;FMTTYPE=image/jpeg:https://alabamanaturejournalclub.com/wp-content/uploads/2024/01/central_al_meet_up_amy_lewis_sides_jan_9-scaled.jpg
END:VEVENT
BEGIN:VEVENT
DTSTART;TZID=America/Chicago:20240109T190000
DTEND;TZID=America/Chicago:20240109T210000
DTSTAMP:20260425T151803
CREATED:20231230T175314Z
LAST-MODIFIED:20240110T001028Z
UID:579-1704826800-1704834000@alabamanaturejournalclub.com
SUMMARY:Virtual Journal Night – January 9th\, 2024
DESCRIPTION:On these casual\, bi-weekly draw nights\, we spend ~2 hours in the evening on a weekday working on our journals\, planning new adventures\, and connecting with each other. Just bring yourself\, a pencil or pen\, and some paper! \nA Zoom link will be sent out to those in the Alabama Nature Journal Club Facebook group via email — so keep an eye out! \nJoin the club here: https://alabamanaturejournalclub.com/membership/
URL:https://alabamanaturejournalclub.com/event/virtual-journal-night-january-9th-2024/
LOCATION:AL
CATEGORIES:Virtual Draw Night
ATTACH;FMTTYPE=image/jpeg:https://alabamanaturejournalclub.com/wp-content/uploads/2023/12/january_9_alabama_nature_journal_club_virtual_journal_night.jpg
END:VEVENT
END:VCALENDAR