BEGIN:VCALENDAR
VERSION:2.0
PRODID:-//alabamanaturejournalclub - ECPv6.10.0//NONSGML v1.0//EN
CALSCALE:GREGORIAN
METHOD:PUBLISH
X-ORIGINAL-URL:https://alabamanaturejournalclub.com
X-WR-CALDESC:Events for alabamanaturejournalclub
REFRESH-INTERVAL;VALUE=DURATION:PT1H
X-Robots-Tag:noindex
X-PUBLISHED-TTL:PT1H
BEGIN:VTIMEZONE
TZID:America/New_York
BEGIN:DAYLIGHT
TZOFFSETFROM:-0500
TZOFFSETTO:-0400
TZNAME:EDT
DTSTART:20230312T070000
END:DAYLIGHT
BEGIN:STANDARD
TZOFFSETFROM:-0400
TZOFFSETTO:-0500
TZNAME:EST
DTSTART:20231105T060000
END:STANDARD
END:VTIMEZONE
BEGIN:VEVENT
DTSTART;TZID=America/New_York:20230607T190000
DTEND;TZID=America/New_York:20230607T210000
DTSTAMP:20260421T210017
CREATED:20230509T224409Z
LAST-MODIFIED:20230530T215212Z
UID:297-1686164400-1686171600@alabamanaturejournalclub.com
SUMMARY:Virtual Journal Night – June 7th
DESCRIPTION:On these casual\, bi-weekly draw nights\, we spend ~2 hours in the evening on a weekday working on our journals\, planning new adventures\, and connecting with each other. Just bring yourself\, a pencil or pen\, and some paper!\n\n\nA Zoom link will be sent out to those in the Alabama Nature Journal Club Facebook group via email — so keep an eye out! Join the club here: https://alabamanaturejournalclub.com/membership/
URL:https://alabamanaturejournalclub.com/event/virtual-journal-night-june-7th/
CATEGORIES:Virtual Draw Night
ATTACH;FMTTYPE=image/png:https://alabamanaturejournalclub.com/wp-content/uploads/2023/05/1.png
END:VEVENT
BEGIN:VEVENT
DTSTART;TZID=America/New_York:20230518T190000
DTEND;TZID=America/New_York:20230518T213000
DTSTAMP:20260421T210018
CREATED:20230509T224154Z
LAST-MODIFIED:20230509T224956Z
UID:293-1684436400-1684445400@alabamanaturejournalclub.com
SUMMARY:Virtual Journal Night - May 18th
DESCRIPTION:On these casual\, bi-weekly draw nights\, we spend ~2.5 hours in the evening on a weekday working on our journals\, planning new adventures\, and connecting with each other. Just bring yourself\, a pencil or pen\, and some paper!\n\nA Zoom link will be sent out to those in the Alabama Nature Journal Club Facebook group via email — so keep an eye out! Join the club here: https://alabamanaturejournalclub.com/membership/
URL:https://alabamanaturejournalclub.com/event/virtual-journal-night-may-18th/
CATEGORIES:Virtual Draw Night
ATTACH;FMTTYPE=image/png:https://alabamanaturejournalclub.com/wp-content/uploads/2023/05/alabama_nature_journal_club_virtual_journal_night_may_18.png
END:VEVENT
BEGIN:VEVENT
DTSTART;TZID=America/New_York:20230502T183000
DTEND;TZID=America/New_York:20230502T213000
DTSTAMP:20260421T210018
CREATED:20230424T122805Z
LAST-MODIFIED:20230424T122847Z
UID:288-1683052200-1683063000@alabamanaturejournalclub.com
SUMMARY:Virtual "Draw" Night - May 2nd
DESCRIPTION:This is the first of our bi-weekly draw nights\, where we spend ~3 hours in the evening on a weekday filling out our journals\, planning new adventures\, and connecting with each other. A Zoom link will be sent out to Alabama Nature Journal Club members via email — so join our list and keep an eye out!
URL:https://alabamanaturejournalclub.com/event/virtual-draw-night-may-2nd/
CATEGORIES:Virtual Draw Night
END:VEVENT
END:VCALENDAR