BEGIN:VCALENDAR
VERSION:2.0
PRODID:-//alabamanaturejournalclub - ECPv6.10.0//NONSGML v1.0//EN
CALSCALE:GREGORIAN
METHOD:PUBLISH
X-ORIGINAL-URL:https://alabamanaturejournalclub.com
X-WR-CALDESC:Events for alabamanaturejournalclub
REFRESH-INTERVAL;VALUE=DURATION:PT1H
X-Robots-Tag:noindex
X-PUBLISHED-TTL:PT1H
BEGIN:VTIMEZONE
TZID:America/New_York
BEGIN:DAYLIGHT
TZOFFSETFROM:-0500
TZOFFSETTO:-0400
TZNAME:EDT
DTSTART:20230312T070000
END:DAYLIGHT
BEGIN:STANDARD
TZOFFSETFROM:-0400
TZOFFSETTO:-0500
TZNAME:EST
DTSTART:20231105T060000
END:STANDARD
TZID:America/Chicago
BEGIN:DAYLIGHT
TZOFFSETFROM:-0600
TZOFFSETTO:-0500
TZNAME:CDT
DTSTART:20230312T080000
END:DAYLIGHT
BEGIN:STANDARD
TZOFFSETFROM:-0500
TZOFFSETTO:-0600
TZNAME:CST
DTSTART:20231105T070000
END:STANDARD
END:VTIMEZONE
BEGIN:VEVENT
DTSTART;TZID=America/New_York:20231108T190000
DTEND;TZID=America/New_York:20231108T210000
DTSTAMP:20260425T164025
CREATED:20230918T163421Z
LAST-MODIFIED:20230918T163421Z
UID:514-1699470000-1699477200@alabamanaturejournalclub.com
SUMMARY:Virtual Journal Night - November 8th
DESCRIPTION:On these casual\, bi-weekly draw nights\, we spend ~2 hours in the evening on a weekday working on our journals\, planning new adventures\, and connecting with each other. Just bring yourself\, a pencil or pen\, and some paper! \nA Zoom link will be sent out to those in the Alabama Nature Journal Club Facebook group via email — so keep an eye out!  \nJoin the club here: https://alabamanaturejournalclub.com/membership/
URL:https://alabamanaturejournalclub.com/event/virtual-journal-night-november-8th/
LOCATION:AL
ATTACH;FMTTYPE=image/jpeg:https://alabamanaturejournalclub.com/wp-content/uploads/2023/09/virtual_journal_night_alabama_nature_journal_club_november_8.jpg
ORGANIZER;CN="Laramie McKenna":MAILTO:lmakozbek@gmail.com
END:VEVENT
BEGIN:VEVENT
DTSTART;TZID=America/Chicago:20231114T120000
DTEND;TZID=America/Chicago:20231114T140000
DTSTAMP:20260425T164025
CREATED:20231107T191551Z
LAST-MODIFIED:20231107T191746Z
UID:553-1699963200-1699970400@alabamanaturejournalclub.com
SUMMARY:Nature Journaling Meet-up (Central Alabama) - November 14th
DESCRIPTION:Do I need to RSVP? Yes! Please RSVP to save a spot. \n  \nEvent Leader: Amy Lewis Sides\, a biologist and expert nature journaling educator based in Hoover\, AL! Check out her website here. \n  \nWhen & where is the event? \nAddress: Aldridge Garden\, 3530 Lorna Rd\, Hoover\, AL 35216 \nDate & Time: Tuesday\, November 14th\, 2023 from 12:00-2:00pm CST   \nOur gathering will take place at the Boat House\, see the map below for reference.   \n  \nHow much does it cost to attend? This event is entirely FREE. So\, invite your friends\, bring your family\, and let’s all share in a day of connection\, creativity\, and discovery! \n  \nWhat will we be doing? \nNature journaling is the practice of using words\, pictures\, and numbers to describe the natural world around you. It is a tool for sharpening your observational skills and forming a deeper connection with nature. Most importantly\, anyone can do it! No prior experience or skill is required.  \nAt this event\, you will have freedom to explore the property\, making observations and notes about what you see around you. We encourage you to explore these three prompts while you are out: https://johnmuirlaws.com/deep-observation/.  \nThis is a monthly social meet-up for anyone who is interested in nature journaling\, especially in Central Alabama. These meet-ups are not instructional. However\, Amy will be there to facilitate your time at Aldridge Gardens and answer your questions.  \n  \nWho is this event for? This family-friendly event is designed to accommodate a blend of all ages and experience levels.  \nHowever\, please give the organizers a heads-up if you plan on bringing a large group of children by emailing us at alabamanaturejournalclub@gmail.com. Parents and caretakers are responsible for their children during this event. \n  \nWhat do I need to bring? Please bring your own supplies\, snacks and anything else you might need! Consider bringing a notebook\, pens\, pencils\, and something to add color to your entries (i.e. colored pencils\, watercolor\, markers\, etc.)  \nYou may also want to consider bringing:  \n\nBottled water \nSnacks\nDepending on the season: insect repellent\, sunscreen\, raincoat\, a hat or sunglasses for comfort\, portable chair \n\n  \nAnything else I need to know? Restroom facilities are available on-site for convenience. Should you have any queries or need further details\, please feel free to reach out. We are more than happy to help! \nWe’re excited to see you\, to grow our community\, and to enjoy Alabama’s natural wonders through the art of nature journaling. \nHappy journaling\, everyone! \n  \n \n 
URL:https://alabamanaturejournalclub.com/event/nature-journaling-meet-up-central-alabama-november-14th/
LOCATION:Aldridge Gardens\, 3530 Lorna Rd\, Hoover\, AL\, 35216\, United States
CATEGORIES:In-person
ATTACH;FMTTYPE=image/jpeg:https://alabamanaturejournalclub.com/wp-content/uploads/2023/11/tuesday_november_14_central_al_nature_journaling_event_aldridge_gardens_boat_house_amy_lewis_sides-scaled.jpg
END:VEVENT
BEGIN:VEVENT
DTSTART;TZID=America/New_York:20231121T190000
DTEND;TZID=America/New_York:20231121T210000
DTSTAMP:20260425T164025
CREATED:20230918T163604Z
LAST-MODIFIED:20231121T201415Z
UID:517-1700593200-1700600400@alabamanaturejournalclub.com
SUMMARY:Virtual Journal Night - November 21st
DESCRIPTION:On these casual\, bi-weekly draw nights\, we spend ~2 hours in the evening on a weekday working on our journals\, planning new adventures\, and connecting with each other. Just bring yourself\, a pencil or pen\, and some paper! \nA Zoom link will be sent out to those in the Alabama Nature Journal Club Facebook group via email — so keep an eye out!  \nJoin the club here: https://alabamanaturejournalclub.com/membership/
URL:https://alabamanaturejournalclub.com/event/virtual-journal-night-november-21st/
LOCATION:AL
CATEGORIES:Virtual Draw Night
ATTACH;FMTTYPE=image/jpeg:https://alabamanaturejournalclub.com/wp-content/uploads/2023/09/virtual_journal_night_alabama_nature_journal_club_november_21.jpg
ORGANIZER;CN="Laramie McKenna":MAILTO:lmakozbek@gmail.com
END:VEVENT
END:VCALENDAR