BEGIN:VCALENDAR
VERSION:2.0
PRODID:-//alabamanaturejournalclub - ECPv6.10.0//NONSGML v1.0//EN
CALSCALE:GREGORIAN
METHOD:PUBLISH
X-ORIGINAL-URL:https://alabamanaturejournalclub.com
X-WR-CALDESC:Events for alabamanaturejournalclub
REFRESH-INTERVAL;VALUE=DURATION:PT1H
X-Robots-Tag:noindex
X-PUBLISHED-TTL:PT1H
BEGIN:VTIMEZONE
TZID:America/Chicago
BEGIN:DAYLIGHT
TZOFFSETFROM:-0600
TZOFFSETTO:-0500
TZNAME:CDT
DTSTART:20230312T080000
END:DAYLIGHT
BEGIN:STANDARD
TZOFFSETFROM:-0500
TZOFFSETTO:-0600
TZNAME:CST
DTSTART:20231105T070000
END:STANDARD
TZID:America/New_York
BEGIN:DAYLIGHT
TZOFFSETFROM:-0500
TZOFFSETTO:-0400
TZNAME:EDT
DTSTART:20230312T070000
END:DAYLIGHT
BEGIN:STANDARD
TZOFFSETFROM:-0400
TZOFFSETTO:-0500
TZNAME:EST
DTSTART:20231105T060000
END:STANDARD
END:VTIMEZONE
BEGIN:VEVENT
DTSTART;TZID=America/Chicago:20231205T120000
DTEND;TZID=America/Chicago:20231205T140000
DTSTAMP:20260425T151813
CREATED:20231129T152316Z
LAST-MODIFIED:20231129T154758Z
UID:568-1701777600-1701784800@alabamanaturejournalclub.com
SUMMARY:Nature Journaling Meet-up (Central Alabama) – December 5th
DESCRIPTION:Do I need to RSVP? Yes! Please RSVP to save a spot. \nEvent Leader: Amy Lewis Sides\, a biologist and expert nature journaling educator based in Pelham\, AL! Check out her website here. \n  \nWhen & where is the event? \nAddress: Moss Rock Preserve Simmons Trailhead. Please use the following link to view the location on a map application as there is no address for this trailhead: \nGoogle Maps: https://maps.app.goo.gl/oEPy1kpkbRj4ryQr6?g_st=ic \nDate & Time: Tuesday\, December 5th\, 2023 from 12:00-2:00pm CST \nIf you are unfamiliar with this trailhead\, it may look like a bus parking lot at first. Drive to the far end of the lot from the road\, and the trailhead is there. \n  \nHow much does it cost to attend? This event is entirely FREE. So\, invite your friends\, bring your family\, and let’s all share in a day of connection\, creativity\, and discovery! \n  \nWhat will we be doing? \nAt this event\, we will take a short hike before settling in to journal. We encourage you to make observations and notes about what you see around you — and\, to explore these three prompts while you are out: https://johnmuirlaws.com/deep-observation/. \nThis is a monthly social meet-up for anyone who is interested in nature journaling\, especially in Central Alabama. These meet-ups are not instructional. However\, Amy will be there to facilitate your time and answer your questions. \nNature journaling is the practice of using words\, pictures\, and numbers to describe the natural world around you. It is a tool for sharpening your observational skills and forming a deeper connection with nature. Most importantly\, anyone can do it! No prior experience or skill is required. \n  \nWho is this event for? This family-friendly event is designed to accommodate a blend of all ages and experience levels. \nHowever\, please give the organizers a heads-up if you plan on bringing a large group of children by emailing us at alabamanaturejournalclub@gmail.com. Parents and caretakers are responsible for their children during this event. \n  \nWhat do I need to bring? Please bring your own supplies\, snacks and anything else you might need! Consider bringing a notebook\, pens\, pencils\, and something to add color to your entries (i.e. colored pencils\, watercolor\, markers\, etc.) \nYou may also want to consider bringing: \n\nBottled water\nWinter jacket\, hat and gloves\nSnacks\nDepending on the season: insect repellent\, sunscreen\, raincoat\, a hat or sunglasses for comfort\, portable chair\n\n  \nAnything else I need to know? Restroom facilities are not available at this site. Should you have any queries or need further details\, please feel free to reach out. We are more than happy to help! \nWe’re excited to see you\, to grow our community\, and to enjoy Alabama’s natural wonders through the art of nature journaling. \nHappy journaling\, everyone!
URL:https://alabamanaturejournalclub.com/event/nature-journaling-meet-up-central-alabama-december-5th/
LOCATION:AL
CATEGORIES:In-person
ATTACH;FMTTYPE=image/jpeg:https://alabamanaturejournalclub.com/wp-content/uploads/2023/11/central_al_meet_up_moss_rock_preserve_december_5_amy_lewis_sides-scaled.jpg
END:VEVENT
BEGIN:VEVENT
DTSTART;TZID=America/New_York:20231206T190000
DTEND;TZID=America/New_York:20231206T210000
DTSTAMP:20260425T151813
CREATED:20230918T163716Z
LAST-MODIFIED:20230918T163716Z
UID:520-1701889200-1701896400@alabamanaturejournalclub.com
SUMMARY:Virtual Journal Night - December 6th
DESCRIPTION:On these casual\, bi-weekly draw nights\, we spend ~2 hours in the evening on a weekday working on our journals\, planning new adventures\, and connecting with each other. Just bring yourself\, a pencil or pen\, and some paper! \nA Zoom link will be sent out to those in the Alabama Nature Journal Club Facebook group via email — so keep an eye out!  \nJoin the club here: https://alabamanaturejournalclub.com/membership/
URL:https://alabamanaturejournalclub.com/event/virtual-journal-night-december-6th/
LOCATION:AL
CATEGORIES:Virtual Draw Night
ATTACH;FMTTYPE=image/jpeg:https://alabamanaturejournalclub.com/wp-content/uploads/2023/09/virtual_journal_night_alabama_nature_journal_club_december_6.jpg
ORGANIZER;CN="Laramie McKenna":MAILTO:lmakozbek@gmail.com
END:VEVENT
BEGIN:VEVENT
DTSTART;TZID=America/New_York:20231219T190000
DTEND;TZID=America/New_York:20231219T210000
DTSTAMP:20260425T151813
CREATED:20230918T163805Z
LAST-MODIFIED:20230918T163825Z
UID:523-1703012400-1703019600@alabamanaturejournalclub.com
SUMMARY:Virtual Journal Night - December 19th
DESCRIPTION:On these casual\, bi-weekly draw nights\, we spend ~2 hours in the evening on a weekday working on our journals\, planning new adventures\, and connecting with each other. Just bring yourself\, a pencil or pen\, and some paper! \nA Zoom link will be sent out to those in the Alabama Nature Journal Club Facebook group via email — so keep an eye out!  \nJoin the club here: https://alabamanaturejournalclub.com/membership/
URL:https://alabamanaturejournalclub.com/event/virtual-journal-night-december-19th/
LOCATION:AL
CATEGORIES:Virtual Draw Night
ATTACH;FMTTYPE=image/jpeg:https://alabamanaturejournalclub.com/wp-content/uploads/2023/09/virtual_journal_night_alabama_nature_journal_club_december_19.jpg
ORGANIZER;CN="Laramie McKenna":MAILTO:lmakozbek@gmail.com
END:VEVENT
END:VCALENDAR