BEGIN:VCALENDAR
VERSION:2.0
PRODID:-//alabamanaturejournalclub - ECPv6.10.0//NONSGML v1.0//EN
CALSCALE:GREGORIAN
METHOD:PUBLISH
X-ORIGINAL-URL:https://alabamanaturejournalclub.com
X-WR-CALDESC:Events for alabamanaturejournalclub
REFRESH-INTERVAL;VALUE=DURATION:PT1H
X-Robots-Tag:noindex
X-PUBLISHED-TTL:PT1H
BEGIN:VTIMEZONE
TZID:America/Chicago
BEGIN:DAYLIGHT
TZOFFSETFROM:-0600
TZOFFSETTO:-0500
TZNAME:CDT
DTSTART:20240310T080000
END:DAYLIGHT
BEGIN:STANDARD
TZOFFSETFROM:-0500
TZOFFSETTO:-0600
TZNAME:CST
DTSTART:20241103T070000
END:STANDARD
END:VTIMEZONE
BEGIN:VEVENT
DTSTART;TZID=America/Chicago:20240206T120000
DTEND;TZID=America/Chicago:20240206T140000
DTSTAMP:20260425T121555
CREATED:20240108T175754Z
LAST-MODIFIED:20240202T154017Z
UID:609-1707220800-1707228000@alabamanaturejournalclub.com
SUMMARY:Nature Journaling Meet-up (Central Alabama) – February 6th\, 2024
DESCRIPTION:Do I need to RSVP? Yes! Please RSVP to save a spot. \n  \nEvent Leader: Amy Lewis Sides\, a biologist and expert nature journaling educator based in Pelham\, AL! Check out her website here. \n  \nWhen & where is the event? Heardmont Park\, 5458 Cahaba Valley Road\, Birmingham 35242 \nWe’ll meet at the benches by the main stone and iron entrance gate\, which is near the playground by the Senior Center. \nDate & Time: Tuesday\, February 6th\, 2023 from 12:00-2:00pm CST \n  \n How much does it cost to attend? This event is entirely FREE. So\, invite your friends\, bring your family\, and let’s all share in a day of connection\, creativity\, and discovery! \n  \nWhat will we be doing? \nDepending on the location\, there may be different things to observe or visit. We encourage you to make observations and notes about what you see around you — and\, to explore these three prompts while you are out: https://johnmuirlaws.com/deep-observation/. \nThis is a monthly social meet-up for anyone who is interested in nature journaling\, especially in Central Alabama. These meet-ups are not instructional. However\, Amy will be there to facilitate your time and answer your questions. \nNature journaling is the practice of using words\, pictures\, and numbers to describe the natural world around you. It is a tool for sharpening your observational skills and forming a deeper connection with nature. Most importantly\, anyone can do it! No prior experience or skill is required. \n  \nWho is this event for?  \nThis family-friendly event is designed to accommodate a blend of all ages and experience levels. \nHowever\, please give the organizers a heads-up if you plan on bringing a large group of children by emailing us at alabamanaturejournalclub@gmail.com. Parents and caretakers are responsible for their children during this event. \n  \nWhat do I need to bring? Please bring your own supplies\, snacks and anything else you might need! Consider bringing a notebook\, pens\, pencils\, and something to add color to your entries (i.e. colored pencils\, watercolor\, markers\, etc.) \nYou may also want to consider bringing: \n\nBottled water\nSnacks\nDepending on the season: insect repellent\, sunscreen\, raincoat\, a hat or sunglasses for comfort\, portable chair\n\nAnything else I need to know? Not at this moment! Please note that not all locations will have access to a restroom or other amenities. Should you have any queries or need further details\, please feel free to reach out. We are more than happy to help! \nWe’re excited to see you\, to grow our community\, and to enjoy Alabama’s natural wonders through the art of nature journaling. \nHappy journaling\, everyone!
URL:https://alabamanaturejournalclub.com/event/nature-journaling-meet-up-central-alabama-february-6th-2024/
LOCATION:AL
CATEGORIES:In-person
ATTACH;FMTTYPE=image/jpeg:https://alabamanaturejournalclub.com/wp-content/uploads/2024/01/central_al_meet_up_amy_lewis_sides_feb_6-scaled.jpg
END:VEVENT
BEGIN:VEVENT
DTSTART;TZID=America/Chicago:20240206T190000
DTEND;TZID=America/Chicago:20240206T210000
DTSTAMP:20260425T121555
CREATED:20231230T175633Z
LAST-MODIFIED:20231230T175633Z
UID:585-1707246000-1707253200@alabamanaturejournalclub.com
SUMMARY:Virtual Journal Night – February 6th\, 2024
DESCRIPTION:On these casual\, bi-weekly draw nights\, we spend ~2 hours in the evening on a weekday working on our journals\, planning new adventures\, and connecting with each other. Just bring yourself\, a pencil or pen\, and some paper! \nA Zoom link will be sent out to those in the Alabama Nature Journal Club Facebook group via email — so keep an eye out! \nJoin the club here: https://alabamanaturejournalclub.com/membership/
URL:https://alabamanaturejournalclub.com/event/virtual-journal-night-february-6th-2024/
LOCATION:AL
CATEGORIES:Virtual Draw Night
ATTACH;FMTTYPE=image/jpeg:https://alabamanaturejournalclub.com/wp-content/uploads/2023/12/februrary_6_alabama_nature_journal_club_virtual_journal_night.jpg
END:VEVENT
BEGIN:VEVENT
DTSTART;TZID=America/Chicago:20240221T190000
DTEND;TZID=America/Chicago:20240221T210000
DTSTAMP:20260425T121555
CREATED:20231230T175745Z
LAST-MODIFIED:20231230T175745Z
UID:588-1708542000-1708549200@alabamanaturejournalclub.com
SUMMARY:Virtual Journal Night – February 21st\, 2024
DESCRIPTION:On these casual\, bi-weekly draw nights\, we spend ~2 hours in the evening on a weekday working on our journals\, planning new adventures\, and connecting with each other. Just bring yourself\, a pencil or pen\, and some paper! \nA Zoom link will be sent out to those in the Alabama Nature Journal Club Facebook group via email — so keep an eye out! \nJoin the club here: https://alabamanaturejournalclub.com/membership/
URL:https://alabamanaturejournalclub.com/event/virtual-journal-night-february-21st-2024/
LOCATION:AL
CATEGORIES:Virtual Draw Night
ATTACH;FMTTYPE=image/jpeg:https://alabamanaturejournalclub.com/wp-content/uploads/2023/12/february_21_alabama_nature_journal_club_virtual_journal_night.jpg
END:VEVENT
BEGIN:VEVENT
DTSTART;TZID=America/Chicago:20240224T120000
DTEND;TZID=America/Chicago:20240224T140000
DTSTAMP:20260425T121555
CREATED:20240109T000652Z
LAST-MODIFIED:20240130T024202Z
UID:629-1708776000-1708783200@alabamanaturejournalclub.com
SUMMARY:Nature Journal at Little River Canyon\, February 24th (North Alabama Monthly Meet-up)
DESCRIPTION:Event Description: \nFebruary is a chilly time in North Alabama! But\, it can be one of the most beautiful\, too. We are kicking off our 2024 in-person monthly meet-ups at an exciting new location: Little River Canyon. We’re especially thrilled to partner with the Little River Canyon Center for this meet-up. They host a number of incredible events for the North Alabama area and the Fort Payne\, AL community — I highly recommend attending some. \nWe will begin our meet-up by walking along their Path to Learning trail immediately behind the center to observe some of the local flora and fauna together before settling down to journal. Alabama winters are unpredictable\, so if it is a particularly beautiful and warm day\, we will remain outside when journaling. But\, if it is chilly\, we will have access to an indoor location. \nDo I need to RSVP? Yes! Please RSVP to save a spot. \nWhen and where is the event? \nAddress: 4322 Little River Canyon Rim Pkwy\, Fort Payne\, AL 35967 \nDate and Time: Saturday\, February 24th\, 12 PM – 2 PM CST \nWho is this event for? \nThis family-friendly event is designed to accommodate a blend of ages and experience levels. Please give the organizers a heads-up if you plan on bringing a large group of children. Parents and caretakers are responsible for their children during this event. \nWhat do I need to bring? \nThis is a BYOB (Bring Your Own Brush!) kind of event. If you already have art supplies you’d prefer to use\, bring those too! But\, if you don’t have any supplies\, don’t worry! Our event leader will provide materials for anyone who forgot them or needs them. \nWe recommend bringing: \n\nnotebook\npen\npencil\ncolored pencils\nsunscreen\njacket or blanket\nhat or sunglasses\nbottled water\n\nHow much does it cost to attend? \nThis event is entirely FREE. So\, invite your friends\, bring your family\, and let’s all share in a day of connection\, creativity\, and discovery! \nAnything else I need to know? \n\nThis location offers a shaded area as well as restrooms. We recommend bringing something to sit on\, such as a jacket\, blanket or portable chair if you choose to remain on the trails while journaling.\nLittle River Canyon is a National Preserve. Please be respectful of the area!\nCome a little early or stay a little later to visit the canyon itself if you haven’t already! An excellent view of it is right near the Center.\n\nDon’t hesitate to reach out if you have any questions or need additional information. We’re here to assist you! \nWe can’t wait to meet you\, share in your company\, and explore the beauty of the Alabama outdoors through the lens of nature journaling. \nHappy journaling\, everyone!
URL:https://alabamanaturejournalclub.com/event/nature-journal-at-little-river-canyon-february-24th-north-alabama-monthly-meet-up/
LOCATION:Little River Canyon Center\, 4322 Little River Canyon Rim Pkwy\, Fort Payne\, AL\, 5967\, United States
ATTACH;FMTTYPE=image/png:https://alabamanaturejournalclub.com/wp-content/uploads/2024/01/nature_journaling_little_river_canyon_february_24.png
ORGANIZER;CN="Laramie McKenna":MAILTO:lmakozbek@gmail.com
END:VEVENT
END:VCALENDAR